BEGIN:VCALENDAR
VERSION:2.0
BEGIN:VEVENT
URL:https://zoo.oztix.com.au/outlet/event/0ec0e806-e8ff-4c2e-b2b0-06c9281a2d77
DTSTART:20200308T090000Z
DTEND:20200308T090000Z
SUMMARY:JINJER - Show #2
DESCRIPTION:Event details: https://zoo.oztix.com.au/outlet/event/0ec0e806-e8ff-4c2e-b2b0-06c9281a2d77
LOCATION:The Zoo (Fortitude Valley, QLD)
END:VEVENT
END:VCALENDAR