BEGIN:VCALENDAR
VERSION:2.0
BEGIN:VEVENT
URL:https://zoo.oztix.com.au/outlet/event/39a216ac-3241-4060-b904-2c5541c16556
DTSTART:20200417T090000Z
DTEND:20200417T090000Z
SUMMARY:John 5 & The Creatures
DESCRIPTION:Event details: https://zoo.oztix.com.au/outlet/event/39a216ac-3241-4060-b904-2c5541c16556
LOCATION:The Zoo (Fortitude Valley, QLD)
END:VEVENT
END:VCALENDAR