BEGIN:VCALENDAR
VERSION:2.0
BEGIN:VEVENT
URL:https://zoo.oztix.com.au/outlet/event/681d3f8d-771a-457b-b231-c80f13c666cd
DTSTART:20200318T083000Z
DTEND:20200318T083000Z
SUMMARY:Ruckus St. Paddy's Poetry Slam!
DESCRIPTION:Event details: https://zoo.oztix.com.au/outlet/event/681d3f8d-771a-457b-b231-c80f13c666cd
LOCATION:The Zoo (Fortitude Valley, QLD)
END:VEVENT
END:VCALENDAR